BEGIN:VCALENDAR
VERSION:2.0
PRODID:-//PolisEvents - ECPv6.15.17.1//NONSGML v1.0//EN
CALSCALE:GREGORIAN
METHOD:PUBLISH
X-WR-CALNAME:PolisEvents
X-ORIGINAL-URL:https://polisevents.code36.gr
X-WR-CALDESC:Events for PolisEvents
REFRESH-INTERVAL;VALUE=DURATION:PT1H
X-Robots-Tag:noindex
X-PUBLISHED-TTL:PT1H
BEGIN:VTIMEZONE
TZID:Europe/Athens
BEGIN:DAYLIGHT
TZOFFSETFROM:+0200
TZOFFSETTO:+0300
TZNAME:EEST
DTSTART:20250330T010000
END:DAYLIGHT
BEGIN:STANDARD
TZOFFSETFROM:+0300
TZOFFSETTO:+0200
TZNAME:EET
DTSTART:20251026T010000
END:STANDARD
BEGIN:DAYLIGHT
TZOFFSETFROM:+0200
TZOFFSETTO:+0300
TZNAME:EEST
DTSTART:20260329T010000
END:DAYLIGHT
BEGIN:STANDARD
TZOFFSETFROM:+0300
TZOFFSETTO:+0200
TZNAME:EET
DTSTART:20261025T010000
END:STANDARD
BEGIN:DAYLIGHT
TZOFFSETFROM:+0200
TZOFFSETTO:+0300
TZNAME:EEST
DTSTART:20270328T010000
END:DAYLIGHT
BEGIN:STANDARD
TZOFFSETFROM:+0300
TZOFFSETTO:+0200
TZNAME:EET
DTSTART:20271031T010000
END:STANDARD
END:VTIMEZONE
BEGIN:VEVENT
DTSTART;TZID=Europe/Athens:20260227T210000
DTEND;TZID=Europe/Athens:20260227T210000
DTSTAMP:20260424T133719
CREATED:20260311T073259Z
LAST-MODIFIED:20260311T073259Z
UID:330-1772226000-1772226000@polisevents.code36.gr
SUMMARY:Παρουσίαση βιβλίου «Δεν έχουμε οξυγόνο» – Χαλάνδρι – 27 Φεβρουαρίου | PolisEvents
DESCRIPTION:Ο Δήμος Χαλανδρίου παρουσιάζει το βιβλίο «Δεν έχουμε οξυγόνο» των εκδόσεων Εύμαρος την Παρασκευή 27 Φεβρουαρίου 2026 στις 19:00\, στο Κέντρο Νεότητας Δήμου Χαλανδρίου. \nΠρόκειται για έναν συλλογικό τόμο με κείμενα 36 συγγραφέων\, που αποτίει φόρο τιμής στα θύματα του σιδηροδρομικού δυστυχήματος στα Τέμπη. Την ανθολόγηση και τη φιλολογική επιμέλεια έχουν αναλάβει οι Ηλίας Φραγκάκης και Παναγιώτης Χατζημωυσιάδης. \nΣτην εκδήλωση θα μιλήσουν\, μεταξύ άλλων\, ο Ηλίας Φραγκάκης\, ο Μάνος Κοντολέων\, ο υπεύθυνος των εκδόσεων Εύμαρος Πέτρος Κακολύρης και ο εκπρόσωπος του συλλόγου συγγενών θυμάτων των Τεμπών Βασίλης Χατζηχαραλάμπους. \nΤραγούδια θα ερμηνεύσει η Μαρία Παπαλεοντίου\, ενώ στο πιάνο θα βρίσκεται ο Παύλος Κουλτουρουμίδης.
URL:https://polisevents.code36.gr/event/%cf%80%ce%b1%cf%81%ce%bf%cf%85%cf%83%ce%af%ce%b1%cf%83%ce%b7-%ce%b2%ce%b9%ce%b2%ce%bb%ce%af%ce%bf%cf%85-%ce%b4%ce%b5%ce%bd-%ce%ad%cf%87%ce%bf%cf%85%ce%bc%ce%b5-%ce%bf%ce%be%cf%85%ce%b3%cf%8c/
LOCATION:Κέντρο Νεότητας Δήμου Χαλανδρίου\, Δαναΐδων & Αντιγόνης\, Χαλάνδρι\, Δαναΐδων & Αντιγόνης\, Χαλάνδρι\, Greece
CATEGORIES:Πολιτισμός
ATTACH;FMTTYPE=image/jpeg:https://polisevents.code36.gr/wp-content/uploads/2026/02/641436043_1295234849319051_4182455040551420679_n.jpg
END:VEVENT
BEGIN:VEVENT
DTSTART;TZID=Europe/Athens:20260227T120000
DTEND;TZID=Europe/Athens:20260301T220000
DTSTAMP:20260424T133719
CREATED:20260311T073748Z
LAST-MODIFIED:20260311T073748Z
UID:333-1772193600-1772402400@polisevents.code36.gr
SUMMARY:Έκθεση ζωγραφικής της Στέλλας Σπανού – Άγιος Δημήτριος – 27 Φεβρουαρίου | PolisEvents
DESCRIPTION:Η ατομική έκθεση ζωγραφικής της αρχιτέκτονος και εικαστικού Στέλλας Σπανού με θέμα «Το ρόδι συμβολισμοί» φιλοξενείται στον Άγιο Δημήτριο για τρεις ημέρες\, από τις 27 Φεβρουαρίου έως και την 1η Μαρτίου 2026. \nΗ έκθεση παρουσιάζει αέρινες ακουαρέλες που αγγίζουν το abstract\, με παρεμβάσεις από κάρβουνο\, δημιουργώντας μορφές που αφήνουν χώρο στη φαντασία και κινητοποιούν το ασυνείδητο μέσα από την απλότητα και την εκφραστικότητά τους. \nΗ έκθεση μεταφέρθηκε στην Αίθουσα του Συλλόγου Κάτω Μεριάς Αμοργού «Η Αγία Παρασκευή» και αποτελεί την τελευταία παρουσίασή της για φέτος.
URL:https://polisevents.code36.gr/event/%ce%ad%ce%ba%ce%b8%ce%b5%cf%83%ce%b7-%ce%b6%cf%89%ce%b3%cf%81%ce%b1%cf%86%ce%b9%ce%ba%ce%ae%cf%82-%cf%84%ce%b7%cf%82-%cf%83%cf%84%ce%ad%ce%bb%ce%bb%ce%b1%cf%82-%cf%83%cf%80%ce%b1%ce%bd%ce%bf%cf%8d/
LOCATION:Αίθουσα Συλλόγου Κάτω Μεριάς Αμοργού «Η Αγία Παρασκευή»\, Αίθουσα Συλλόγου Κάτω Μεριάς Αμοργού «Η Αγία Παρασκευή»\, Άγιος Δημήτριος\, Greece
CATEGORIES:Πολιτισμός
ATTACH;FMTTYPE=image/jpeg:https://polisevents.code36.gr/wp-content/uploads/2026/02/1000012876-scaled-1.jpg
END:VEVENT
BEGIN:VEVENT
DTSTART;TZID=Europe/Athens:20260225T210000
DTEND;TZID=Europe/Athens:20260301T223000
DTSTAMP:20260424T133719
CREATED:20260311T072135Z
LAST-MODIFIED:20260311T072135Z
UID:324-1772053200-1772404200@polisevents.code36.gr
SUMMARY:Εικαστική έκθεση «Ξύλο και βότσαλο» – Χολαργός – 25 Φεβρουαρίου | PolisEvents
DESCRIPTION:Η Δημοτική Πινακοθήκη Χολαργού «Αλέκος Φασιανός» φιλοξενεί την εικαστική έκθεση του Χάρη Κανδηλώρου (Harilos) με τίτλο «Ξύλο και βότσαλο». \nΣτην έκθεση παρουσιάζονται περισσότερες από 30 δημιουργίες της τελευταίας περιόδου του καλλιτέχνη\, από μικροσκοπικά γλυπτά έως μνημειώδη έργα. \nΤα εγκαίνια θα πραγματοποιηθούν την Τετάρτη 25 Φεβρουαρίου 2026 στις 19:00 στη Δημοτική Πινακοθήκη Χολαργού «Αλέκος Φασιανός» (Λ. Περικλέους 55)\, ενώ η έκθεση θα διαρκέσει έως και την Κυριακή 1 Μαρτίου. \nΏρες λειτουργίας: 26/2 και 27/2 από 10:00 έως 14:00 και 18:00 έως 20:30\, καθώς και 28/2 και 1/3 από 18:00 έως 20:30.
URL:https://polisevents.code36.gr/event/%ce%b5%ce%b9%ce%ba%ce%b1%cf%83%cf%84%ce%b9%ce%ba%ce%ae-%ce%ad%ce%ba%ce%b8%ce%b5%cf%83%ce%b7-%ce%be%cf%8d%ce%bb%ce%bf-%ce%ba%ce%b1%ce%b9-%ce%b2%cf%8c%cf%84%cf%83%ce%b1%ce%bb%ce%bf/
LOCATION:Δημοτική Πινακοθήκη Χολαργού «Αλέκος Φασιανός»\, Λ. Περικλέους 55\, Χολαργός\, Παπάγου-Χολαργού\, Greece
CATEGORIES:Πολιτισμός
ATTACH;FMTTYPE=image/jpeg:https://polisevents.code36.gr/wp-content/uploads/2026/02/xarilaos_erga.jpg
END:VEVENT
END:VCALENDAR