BEGIN:VCALENDAR
VERSION:2.0
PRODID:-//PolisEvents - ECPv6.15.17.1//NONSGML v1.0//EN
CALSCALE:GREGORIAN
METHOD:PUBLISH
X-ORIGINAL-URL:https://polisevents.code36.gr
X-WR-CALDESC:Events for PolisEvents
REFRESH-INTERVAL;VALUE=DURATION:PT1H
X-Robots-Tag:noindex
X-PUBLISHED-TTL:PT1H
BEGIN:VTIMEZONE
TZID:Europe/Athens
BEGIN:DAYLIGHT
TZOFFSETFROM:+0200
TZOFFSETTO:+0300
TZNAME:EEST
DTSTART:20250330T010000
END:DAYLIGHT
BEGIN:STANDARD
TZOFFSETFROM:+0300
TZOFFSETTO:+0200
TZNAME:EET
DTSTART:20251026T010000
END:STANDARD
BEGIN:DAYLIGHT
TZOFFSETFROM:+0200
TZOFFSETTO:+0300
TZNAME:EEST
DTSTART:20260329T010000
END:DAYLIGHT
BEGIN:STANDARD
TZOFFSETFROM:+0300
TZOFFSETTO:+0200
TZNAME:EET
DTSTART:20261025T010000
END:STANDARD
BEGIN:DAYLIGHT
TZOFFSETFROM:+0200
TZOFFSETTO:+0300
TZNAME:EEST
DTSTART:20270328T010000
END:DAYLIGHT
BEGIN:STANDARD
TZOFFSETFROM:+0300
TZOFFSETTO:+0200
TZNAME:EET
DTSTART:20271031T010000
END:STANDARD
END:VTIMEZONE
BEGIN:VEVENT
DTSTART;TZID=Europe/Athens:20260404T030000
DTEND;TZID=Europe/Athens:20260502T030000
DTSTAMP:20260424T000649
CREATED:20260320T102632Z
LAST-MODIFIED:20260401T125811Z
UID:1035-1775271600-1777690800@polisevents.code36.gr
SUMMARY:Event 11
DESCRIPTION:τεστττ
URL:https://polisevents.code36.gr/event/%cf%84%ce%b5%cf%83%cf%84-7-2-3/
CATEGORIES:Αθλητισμός
ATTACH;FMTTYPE=image/jpeg:https://polisevents.code36.gr/wp-content/uploads/2026/03/blurred-city-festival-background-2026-01-11-08-14-38-utc.jpg
END:VEVENT
BEGIN:VEVENT
DTSTART;TZID=Europe/Athens:20260404T030000
DTEND;TZID=Europe/Athens:20260508T030000
DTSTAMP:20260424T000649
CREATED:20260317T094047Z
LAST-MODIFIED:20260401T125818Z
UID:912-1775271600-1778209200@polisevents.code36.gr
SUMMARY:Event 12
DESCRIPTION:τεστττ
URL:https://polisevents.code36.gr/event/%cf%84%ce%b5%cf%83%cf%84-6/
CATEGORIES:Αθλητισμός
ATTACH;FMTTYPE=image/jpeg:https://polisevents.code36.gr/wp-content/uploads/2026/03/blurred-city-festival-background-2026-01-11-08-14-38-utc.jpg
END:VEVENT
BEGIN:VEVENT
DTSTART;TZID=Europe/Athens:20260405T010000
DTEND;TZID=Europe/Athens:20260519T030000
DTSTAMP:20260424T000649
CREATED:20260313T131957Z
LAST-MODIFIED:20260401T125824Z
UID:867-1775350800-1779159600@polisevents.code36.gr
SUMMARY:Event 13
DESCRIPTION:test 2
URL:https://polisevents.code36.gr/event/test-2-2/
CATEGORIES:Εκπαιδευτικό
ATTACH;FMTTYPE=image/jpeg:https://polisevents.code36.gr/wp-content/uploads/2026/03/coeur-d-alene-idaho-june-12-budweiser-clydes-2026-01-11-10-20-22-utc.jpg
END:VEVENT
BEGIN:VEVENT
DTSTART;TZID=Europe/Athens:20260405T030000
DTEND;TZID=Europe/Athens:20260510T030000
DTSTAMP:20260424T000649
CREATED:20260313T133231Z
LAST-MODIFIED:20260401T125831Z
UID:894-1775358000-1778382000@polisevents.code36.gr
SUMMARY:Event 14
DESCRIPTION:τεστττ
URL:https://polisevents.code36.gr/event/%cf%84%ce%b5%cf%83%cf%84-1-2/
CATEGORIES:Πολιτισμός
ATTACH;FMTTYPE=image/jpeg:https://polisevents.code36.gr/wp-content/uploads/2026/03/tourist-walking-up-to-the-acropolis-athens-attic-2026-03-09-05-15-38-utc.jpg
END:VEVENT
BEGIN:VEVENT
DTSTART;TZID=Europe/Athens:20260406T050000
DTEND;TZID=Europe/Athens:20260516T040000
DTSTAMP:20260424T000649
CREATED:20260313T095337Z
LAST-MODIFIED:20260401T125917Z
UID:919-1775451600-1778904000@polisevents.code36.gr
SUMMARY:Event 18
DESCRIPTION:test 2
URL:https://polisevents.code36.gr/event/test-2-1/
CATEGORIES:Εκπαιδευτικό
ATTACH;FMTTYPE=image/jpeg:https://polisevents.code36.gr/wp-content/uploads/2026/03/the-acropolis-in-athens-attica-greece-2026-01-09-07-13-15-utc.jpg
END:VEVENT
BEGIN:VEVENT
DTSTART;TZID=Europe/Athens:20260408T030000
DTEND;TZID=Europe/Athens:20260502T030000
DTSTAMP:20260424T000649
CREATED:20260313T133231Z
LAST-MODIFIED:20260423T134144Z
UID:895-1775617200-1777690800@polisevents.code36.gr
SUMMARY:Event 22
DESCRIPTION:τεστττ
URL:https://polisevents.code36.gr/event/%cf%84%ce%b5%cf%83%cf%84-2-3/
CATEGORIES:Εκπαιδευτικό
ATTACH;FMTTYPE=image/jpeg:https://polisevents.code36.gr/wp-content/uploads/2026/03/the-acropolis-in-athens-attica-greece-2026-01-09-07-13-15-utc.jpg
END:VEVENT
BEGIN:VEVENT
DTSTART;TZID=Europe/Athens:20260428T130000
DTEND;TZID=Europe/Athens:20261102T000000
DTSTAMP:20260424T000649
CREATED:20260311T080414Z
LAST-MODIFIED:20260311T080414Z
UID:346-1777381200-1793577600@polisevents.code36.gr
SUMMARY:Έκθεση Barbara Kruger «Untitled (Pride and Contempt)» – Καλλιθέα – 28 Απριλίου | PolisEvents
DESCRIPTION:Το Κέντρο Πολιτισμού Ίδρυμα Σταύρος Νιάρχος (ΚΠΙΣΝ) παρουσιάζει την πρώτη ατομική έκθεση στην Ελλάδα της εμβληματικής Αμερικανίδας καλλιτέχνιδας Barbara Kruger\, με τίτλο «Untitled (Pride and Contempt)»\, από την Τρίτη 28 Απριλίου έως και την Κυριακή 1 Νοεμβρίου 2026. \nΗ έκθεση περιλαμβάνει δεκατρία νέα έργα μεγάλης κλίμακας\, ειδικά σχεδιασμένα για τον δημόσιο χώρο του ΚΠΙΣΝ\, ανάμεσά τους και μία τοιχογραφία μήκους 90 μέτρων στο κτήριο της Εθνικής Βιβλιοθήκης της Ελλάδος. Τα έργα αναπτύσσονται και στις δύο πλευρές του Καναλιού\, δημιουργώντας μία καθηλωτική εμπειρία που εντάσσει την τέχνη στην καθημερινή κίνηση των επισκεπτών. \nΓια πρώτη φορά\, τα έργα της Barbara Kruger παρουσιάζονται γραμμένα στην ελληνική γλώσσα\, εστιάζοντας σε ζητήματα αλήθειας\, εξουσίας\, κριτικής σκέψης και ατομικής δράσης. Με την χαρακτηριστική οπτική και γλωσσική της ένταση\, η έκθεση σχολιάζει το σύγχρονο κοινωνικοπολιτικό περιβάλλον και προσκαλεί το κοινό σε έναν ενεργό αναστοχασμό για τον δημόσιο χώρο και τη θέση του ατόμου μέσα σε αυτόν. \nΗ επιμέλεια της έκθεσης είναι της Κατερίνας Σταθοπούλου. Η είσοδος είναι ελεύθερη.
URL:https://polisevents.code36.gr/event/%ce%ad%ce%ba%ce%b8%ce%b5%cf%83%ce%b7-barbara-kruger-untitled-pride-and-contempt-%ce%ba%ce%b1%ce%bb%ce%bb%ce%b9%ce%b8%ce%ad%ce%b1-28-%ce%b1%cf%80%cf%81%ce%b9%ce%bb/
LOCATION:Κέντρο Πολιτισμού Ίδρυμα Σταύρος Νιάρχος (ΚΠΙΣΝ)\, Λεωφόρος Συγγρού 364\, Καλλιθέα\, Καλλιθέα\, Greece
CATEGORIES:Πολιτισμός
ATTACH;FMTTYPE=image/jpeg:https://polisevents.code36.gr/wp-content/uploads/2026/02/Untitled-Pride-and-Contempt.jpg
END:VEVENT
END:VCALENDAR