BEGIN:VCALENDAR
VERSION:2.0
PRODID:-//PolisEvents - ECPv6.15.17.1//NONSGML v1.0//EN
CALSCALE:GREGORIAN
METHOD:PUBLISH
X-WR-CALNAME:PolisEvents
X-ORIGINAL-URL:https://polisevents.code36.gr
X-WR-CALDESC:Events for PolisEvents
REFRESH-INTERVAL;VALUE=DURATION:PT1H
X-Robots-Tag:noindex
X-PUBLISHED-TTL:PT1H
BEGIN:VTIMEZONE
TZID:Europe/Athens
BEGIN:DAYLIGHT
TZOFFSETFROM:+0200
TZOFFSETTO:+0300
TZNAME:EEST
DTSTART:20250330T010000
END:DAYLIGHT
BEGIN:STANDARD
TZOFFSETFROM:+0300
TZOFFSETTO:+0200
TZNAME:EET
DTSTART:20251026T010000
END:STANDARD
BEGIN:DAYLIGHT
TZOFFSETFROM:+0200
TZOFFSETTO:+0300
TZNAME:EEST
DTSTART:20260329T010000
END:DAYLIGHT
BEGIN:STANDARD
TZOFFSETFROM:+0300
TZOFFSETTO:+0200
TZNAME:EET
DTSTART:20261025T010000
END:STANDARD
BEGIN:DAYLIGHT
TZOFFSETFROM:+0200
TZOFFSETTO:+0300
TZNAME:EEST
DTSTART:20270328T010000
END:DAYLIGHT
BEGIN:STANDARD
TZOFFSETFROM:+0300
TZOFFSETTO:+0200
TZNAME:EET
DTSTART:20271031T010000
END:STANDARD
END:VTIMEZONE
BEGIN:VEVENT
DTSTART;TZID=Europe/Athens:20260302T210000
DTEND;TZID=Europe/Athens:20260428T000000
DTSTAMP:20260424T000413
CREATED:20260311T075157Z
LAST-MODIFIED:20260330T082930Z
UID:340-1772485200-1777334400@polisevents.code36.gr
SUMMARY:Ανοιχτά μαθήματα ιστορίας «Η Ιστορία της Ελλάδας του 20ού αιώνα» – Ζωγράφου – 2 Μαρτίου | PolisEvents
DESCRIPTION:Ο Δήμος Ζωγράφου διοργανώνει έναν νέο κύκλο ανοιχτών μαθημάτων ιστορίας με τίτλο «Η Ιστορία της Ελλάδας του 20ού αιώνα»\, από τις 2 Μαρτίου έως τις 27 Απριλίου 2026\, κάθε Δευτέρα στις 19:00\, στο Θέατρο ΣΤΟΑ. \nΟ κύκλος περιλαμβάνει οκτώ αυτοτελείς δημόσιες διαλέξεις ιστορικού περιεχομένου\, στο πλαίσιο του θεσμού «Χαρτογραφήματα»\, με επιστημονική επιμέλεια και συντονισμό του Μενέλαου Χαραλαμπίδη. Οι συναντήσεις θα έχουν τη μορφή ανοιχτής παρουσίασης και συζήτησης\, με τη συμμετοχή ιστορικών και ερευνητών\, προβολή και σχολιασμό αρχειακού υλικού και διάλογο με το κοινό. \nΗ πρωτοβουλία υλοποιείται σε συνεργασία με τα Αρχεία Σύγχρονης Κοινωνικής Ιστορίας (ΑΣΚΙ) και το σωματείο «Φίλοι των ΑΣΚΙ». Η είσοδος είναι ελεύθερη\, ενώ υπάρχει προαιρετική συνεισφορά τροφίμων και φαρμάκων για το Κοινωνικό Παντοπωλείο και το Φαρμακείο του Δήμου Ζωγράφου. \nΓια τη συμμετοχή απαιτείται εγγραφή μέσω της σχετικής φόρμας\, ενώ θα χορηγηθεί βεβαίωση παρακολούθησης σε όσους και όσες παρακολουθήσουν τουλάχιστον 6 από τα 8 μαθήματα.
URL:https://polisevents.code36.gr/event/%ce%b1%ce%bd%ce%bf%ce%b9%cf%87%cf%84%ce%ac-%ce%bc%ce%b1%ce%b8%ce%ae%ce%bc%ce%b1%cf%84%ce%b1-%ce%b9%cf%83%cf%84%ce%bf%cf%81%ce%af%ce%b1%cf%82-%ce%b7-%ce%b9%cf%83%cf%84%ce%bf%cf%81%ce%af%ce%b1/
LOCATION:Θέατρο ΣΤΟΑ\, Μπισκίνη 55\, Ζωγράφου\, Ζωγράφου\, Greece
CATEGORIES:Εκπαιδευτικό
ATTACH;FMTTYPE=image/jpeg:https://polisevents.code36.gr/wp-content/uploads/2026/02/istoria-zografou.jpg
END:VEVENT
BEGIN:VEVENT
DTSTART;TZID=Europe/Athens:20260401T030000
DTEND;TZID=Europe/Athens:20260412T030000
DTSTAMP:20260424T000413
CREATED:20260320T102604Z
LAST-MODIFIED:20260401T125550Z
UID:1020-1775012400-1775962800@polisevents.code36.gr
SUMMARY:Event 1
DESCRIPTION:τεστττ
URL:https://polisevents.code36.gr/event/%cf%84%ce%b5%cf%83%cf%84-7-3/
CATEGORIES:Αθλητισμός
ATTACH;FMTTYPE=image/jpeg:https://polisevents.code36.gr/wp-content/uploads/2026/03/blurred-city-festival-background-2026-01-11-08-14-38-utc.jpg
END:VEVENT
BEGIN:VEVENT
DTSTART;TZID=Europe/Athens:20260401T030000
DTEND;TZID=Europe/Athens:20260417T030000
DTSTAMP:20260424T000413
CREATED:20260313T095337Z
LAST-MODIFIED:20260401T125609Z
UID:918-1775012400-1776394800@polisevents.code36.gr
SUMMARY:Event 2
DESCRIPTION:test 2
URL:https://polisevents.code36.gr/event/test-2-3/
CATEGORIES:Εκπαιδευτικό
ATTACH;FMTTYPE=image/jpeg:https://polisevents.code36.gr/wp-content/uploads/2026/03/the-acropolis-in-athens-attica-greece-2026-01-09-07-13-15-utc.jpg
END:VEVENT
BEGIN:VEVENT
DTSTART;TZID=Europe/Athens:20260402T110000
DTEND;TZID=Europe/Athens:20260414T200000
DTSTAMP:20260424T000413
CREATED:20260313T095337Z
LAST-MODIFIED:20260401T125623Z
UID:775-1775127600-1776196800@polisevents.code36.gr
SUMMARY:Event 4
DESCRIPTION:test 2
URL:https://polisevents.code36.gr/event/test-2/
CATEGORIES:Εκπαιδευτικό
ATTACH;FMTTYPE=image/jpeg:https://polisevents.code36.gr/wp-content/uploads/2026/03/the-acropolis-in-athens-attica-greece-2026-01-09-07-13-15-utc.jpg
END:VEVENT
BEGIN:VEVENT
DTSTART;TZID=Europe/Athens:20260403T030000
DTEND;TZID=Europe/Athens:20260418T030000
DTSTAMP:20260424T000413
CREATED:20260313T132619Z
LAST-MODIFIED:20260401T125630Z
UID:881-1775185200-1776481200@polisevents.code36.gr
SUMMARY:Event 5
DESCRIPTION:τεστττ
URL:https://polisevents.code36.gr/event/%cf%84%ce%b5%cf%83%cf%84-4-2/
CATEGORIES:Κοινωνικό
ATTACH;FMTTYPE=image/jpeg:https://polisevents.code36.gr/wp-content/uploads/2026/03/aerial-shot-of-mount-lycabettus-athens-greece-2026-01-08-00-30-22-utc.jpeg
END:VEVENT
BEGIN:VEVENT
DTSTART;TZID=Europe/Athens:20260403T030000
DTEND;TZID=Europe/Athens:20260421T030000
DTSTAMP:20260424T000413
CREATED:20260313T132619Z
LAST-MODIFIED:20260401T125637Z
UID:878-1775185200-1776740400@polisevents.code36.gr
SUMMARY:Event 5
DESCRIPTION:τεστττ
URL:https://polisevents.code36.gr/event/%cf%84%ce%b5%cf%83%cf%84-1/
CATEGORIES:Εκπαιδευτικό
ATTACH;FMTTYPE=image/jpeg:https://polisevents.code36.gr/wp-content/uploads/2026/03/coeur-d-alene-idaho-june-12-budweiser-clydes-2026-01-11-10-20-22-utc.jpg
END:VEVENT
BEGIN:VEVENT
DTSTART;TZID=Europe/Athens:20260404T030000
DTEND;TZID=Europe/Athens:20260412T030000
DTSTAMP:20260424T000413
CREATED:20260320T102604Z
LAST-MODIFIED:20260401T125646Z
UID:1022-1775271600-1775962800@polisevents.code36.gr
SUMMARY:Event 6
DESCRIPTION:τεστττ
URL:https://polisevents.code36.gr/event/%cf%84%ce%b5%cf%83%cf%84-7-5/
CATEGORIES:Εκπαιδευτικό
ATTACH;FMTTYPE=image/jpeg:https://polisevents.code36.gr/wp-content/uploads/2026/03/group-of-people-jogging-in-the-park-in-the-morning-2026-01-11-09-01-17-utc.jpg
END:VEVENT
BEGIN:VEVENT
DTSTART;TZID=Europe/Athens:20260404T030000
DTEND;TZID=Europe/Athens:20260415T030000
DTSTAMP:20260424T000413
CREATED:20260313T132619Z
LAST-MODIFIED:20260401T125704Z
UID:877-1775271600-1776222000@polisevents.code36.gr
SUMMARY:Event 7
DESCRIPTION:τεστττ
URL:https://polisevents.code36.gr/event/%cf%84%ce%b5%cf%83%cf%84-4/
CATEGORIES:Κοινωνικό
ATTACH;FMTTYPE=image/jpeg:https://polisevents.code36.gr/wp-content/uploads/2026/03/motion-blur-of-busy-street-in-paris-2026-03-10-01-00-12-utc.jpg
END:VEVENT
BEGIN:VEVENT
DTSTART;TZID=Europe/Athens:20260404T030000
DTEND;TZID=Europe/Athens:20260415T030000
DTSTAMP:20260424T000413
CREATED:20260320T102604Z
LAST-MODIFIED:20260401T125712Z
UID:1021-1775271600-1776222000@polisevents.code36.gr
SUMMARY:Event 8
DESCRIPTION:τεστττ
URL:https://polisevents.code36.gr/event/%cf%84%ce%b5%cf%83%cf%84-7-4/
CATEGORIES:Πολιτισμός
ATTACH;FMTTYPE=image/jpeg:https://polisevents.code36.gr/wp-content/uploads/2026/03/blurred-city-festival-background-2026-01-11-08-14-38-utc.jpg
END:VEVENT
BEGIN:VEVENT
DTSTART;TZID=Europe/Athens:20260404T030000
DTEND;TZID=Europe/Athens:20260416T030000
DTSTAMP:20260424T000413
CREATED:20260317T094218Z
LAST-MODIFIED:20260401T125757Z
UID:915-1775271600-1776308400@polisevents.code36.gr
SUMMARY:Event 9
DESCRIPTION:τεστττ
URL:https://polisevents.code36.gr/event/%cf%84%ce%b5%cf%83%cf%84-7/
CATEGORIES:Πολιτισμός
ATTACH;FMTTYPE=image/jpeg:https://polisevents.code36.gr/wp-content/uploads/2026/03/tourist-walking-up-to-the-acropolis-athens-attic-2026-03-09-05-15-38-utc.jpg
END:VEVENT
BEGIN:VEVENT
DTSTART;TZID=Europe/Athens:20260404T030000
DTEND;TZID=Europe/Athens:20260419T030000
DTSTAMP:20260424T000413
CREATED:20260320T102604Z
LAST-MODIFIED:20260401T125805Z
UID:1017-1775271600-1776567600@polisevents.code36.gr
SUMMARY:Event 10
DESCRIPTION:τεστττ
URL:https://polisevents.code36.gr/event/%cf%84%ce%b5%cf%83%cf%84-7-2/
CATEGORIES:Αθλητισμός,Κοινωνικό
ATTACH;FMTTYPE=image/jpeg:https://polisevents.code36.gr/wp-content/uploads/2026/03/blurred-city-festival-background-2026-01-11-08-14-38-utc.jpg
END:VEVENT
BEGIN:VEVENT
DTSTART;TZID=Europe/Athens:20260404T030000
DTEND;TZID=Europe/Athens:20260502T030000
DTSTAMP:20260424T000413
CREATED:20260320T102632Z
LAST-MODIFIED:20260401T125811Z
UID:1035-1775271600-1777690800@polisevents.code36.gr
SUMMARY:Event 11
DESCRIPTION:τεστττ
URL:https://polisevents.code36.gr/event/%cf%84%ce%b5%cf%83%cf%84-7-2-3/
CATEGORIES:Αθλητισμός
ATTACH;FMTTYPE=image/jpeg:https://polisevents.code36.gr/wp-content/uploads/2026/03/blurred-city-festival-background-2026-01-11-08-14-38-utc.jpg
END:VEVENT
BEGIN:VEVENT
DTSTART;TZID=Europe/Athens:20260404T030000
DTEND;TZID=Europe/Athens:20260508T030000
DTSTAMP:20260424T000413
CREATED:20260317T094047Z
LAST-MODIFIED:20260401T125818Z
UID:912-1775271600-1778209200@polisevents.code36.gr
SUMMARY:Event 12
DESCRIPTION:τεστττ
URL:https://polisevents.code36.gr/event/%cf%84%ce%b5%cf%83%cf%84-6/
CATEGORIES:Αθλητισμός
ATTACH;FMTTYPE=image/jpeg:https://polisevents.code36.gr/wp-content/uploads/2026/03/blurred-city-festival-background-2026-01-11-08-14-38-utc.jpg
END:VEVENT
BEGIN:VEVENT
DTSTART;TZID=Europe/Athens:20260405T010000
DTEND;TZID=Europe/Athens:20260519T030000
DTSTAMP:20260424T000413
CREATED:20260313T131957Z
LAST-MODIFIED:20260401T125824Z
UID:867-1775350800-1779159600@polisevents.code36.gr
SUMMARY:Event 13
DESCRIPTION:test 2
URL:https://polisevents.code36.gr/event/test-2-2/
CATEGORIES:Εκπαιδευτικό
ATTACH;FMTTYPE=image/jpeg:https://polisevents.code36.gr/wp-content/uploads/2026/03/coeur-d-alene-idaho-june-12-budweiser-clydes-2026-01-11-10-20-22-utc.jpg
END:VEVENT
BEGIN:VEVENT
DTSTART;TZID=Europe/Athens:20260405T030000
DTEND;TZID=Europe/Athens:20260510T030000
DTSTAMP:20260424T000413
CREATED:20260313T133231Z
LAST-MODIFIED:20260401T125831Z
UID:894-1775358000-1778382000@polisevents.code36.gr
SUMMARY:Event 14
DESCRIPTION:τεστττ
URL:https://polisevents.code36.gr/event/%cf%84%ce%b5%cf%83%cf%84-1-2/
CATEGORIES:Πολιτισμός
ATTACH;FMTTYPE=image/jpeg:https://polisevents.code36.gr/wp-content/uploads/2026/03/tourist-walking-up-to-the-acropolis-athens-attic-2026-03-09-05-15-38-utc.jpg
END:VEVENT
BEGIN:VEVENT
DTSTART;TZID=Europe/Athens:20260405T040000
DTEND;TZID=Europe/Athens:20260501T043000
DTSTAMP:20260424T000413
CREATED:20260313T132522Z
LAST-MODIFIED:20260401T125837Z
UID:874-1775361600-1777609800@polisevents.code36.gr
SUMMARY:Event 15
DESCRIPTION:τεστττ
URL:https://polisevents.code36.gr/event/%cf%84%ce%b5%cf%83%cf%84-3/
CATEGORIES:Εκπαιδευτικό
ATTACH;FMTTYPE=image/jpeg:https://polisevents.code36.gr/wp-content/uploads/2026/03/group-of-people-jogging-in-the-park-in-the-morning-2026-01-11-09-01-17-utc.jpg
END:VEVENT
BEGIN:VEVENT
DTSTART;TZID=Europe/Athens:20260406T030000
DTEND;TZID=Europe/Athens:20260418T030000
DTSTAMP:20260424T000413
CREATED:20260320T102604Z
LAST-MODIFIED:20260401T125844Z
UID:1018-1775444400-1776481200@polisevents.code36.gr
SUMMARY:Event 16
DESCRIPTION:τεστττ
URL:https://polisevents.code36.gr/event/%cf%84%ce%b5%cf%83%cf%84-7-1/
CATEGORIES:Κοινωνικό
ATTACH;FMTTYPE=image/jpeg:https://polisevents.code36.gr/wp-content/uploads/2026/03/motion-blur-of-busy-street-in-paris-2026-03-10-01-00-12-utc.jpg
END:VEVENT
BEGIN:VEVENT
DTSTART;TZID=Europe/Athens:20260406T030000
DTEND;TZID=Europe/Athens:20260429T030000
DTSTAMP:20260424T000413
CREATED:20260313T132619Z
LAST-MODIFIED:20260401T125849Z
UID:879-1775444400-1777431600@polisevents.code36.gr
SUMMARY:Event 17
DESCRIPTION:τεστττ
URL:https://polisevents.code36.gr/event/%cf%84%ce%b5%cf%83%cf%84-2-2/
CATEGORIES:Πολιτισμός
ATTACH;FMTTYPE=image/jpeg:https://polisevents.code36.gr/wp-content/uploads/2026/03/blurred-city-festival-background-2026-01-11-08-14-38-utc.jpg
END:VEVENT
BEGIN:VEVENT
DTSTART;TZID=Europe/Athens:20260406T050000
DTEND;TZID=Europe/Athens:20260516T040000
DTSTAMP:20260424T000413
CREATED:20260313T095337Z
LAST-MODIFIED:20260401T125917Z
UID:919-1775451600-1778904000@polisevents.code36.gr
SUMMARY:Event 18
DESCRIPTION:test 2
URL:https://polisevents.code36.gr/event/test-2-1/
CATEGORIES:Εκπαιδευτικό
ATTACH;FMTTYPE=image/jpeg:https://polisevents.code36.gr/wp-content/uploads/2026/03/the-acropolis-in-athens-attica-greece-2026-01-09-07-13-15-utc.jpg
END:VEVENT
BEGIN:VEVENT
DTSTART;TZID=Europe/Athens:20260407T030000
DTEND;TZID=Europe/Athens:20260417T030000
DTSTAMP:20260424T000413
CREATED:20260320T102604Z
LAST-MODIFIED:20260401T125924Z
UID:1019-1775530800-1776394800@polisevents.code36.gr
SUMMARY:Event 19
DESCRIPTION:τεστττ
URL:https://polisevents.code36.gr/event/%cf%84%ce%b5%cf%83%cf%84-7-2-2/
CATEGORIES:Εκπαιδευτικό
ATTACH;FMTTYPE=image/jpeg:https://polisevents.code36.gr/wp-content/uploads/2026/03/the-acropolis-in-athens-attica-greece-2026-01-09-07-13-15-utc.jpg
END:VEVENT
BEGIN:VEVENT
DTSTART;TZID=Europe/Athens:20260407T030000
DTEND;TZID=Europe/Athens:20260422T030000
DTSTAMP:20260424T000413
CREATED:20260313T133231Z
LAST-MODIFIED:20260401T125938Z
UID:893-1775530800-1776826800@polisevents.code36.gr
SUMMARY:Event 20
DESCRIPTION:τεστττ
URL:https://polisevents.code36.gr/event/%cf%84%ce%b5%cf%83%cf%84-5/
CATEGORIES:Εκπαιδευτικό
ATTACH;FMTTYPE=image/jpeg:https://polisevents.code36.gr/wp-content/uploads/2026/03/anonymous-audience-listens-to-the-speech-of-the-le-2026-03-10-22-30-45-utc.jpg
END:VEVENT
BEGIN:VEVENT
DTSTART;TZID=Europe/Athens:20260407T110000
DTEND;TZID=Europe/Athens:20260419T200000
DTSTAMP:20260424T000413
CREATED:20260313T070750Z
LAST-MODIFIED:20260401T125944Z
UID:628-1775559600-1776628800@polisevents.code36.gr
SUMMARY:Event 21
DESCRIPTION:τεστττ
URL:https://polisevents.code36.gr/event/%cf%84%ce%b5%cf%83%cf%84/
CATEGORIES:Αθλητισμός
ATTACH;FMTTYPE=image/jpeg:https://polisevents.code36.gr/wp-content/uploads/2026/03/blurred-city-festival-background-2026-01-11-08-14-38-utc.jpg
END:VEVENT
BEGIN:VEVENT
DTSTART;TZID=Europe/Athens:20260408T030000
DTEND;TZID=Europe/Athens:20260502T030000
DTSTAMP:20260424T000413
CREATED:20260313T133231Z
LAST-MODIFIED:20260423T134144Z
UID:895-1775617200-1777690800@polisevents.code36.gr
SUMMARY:Event 22
DESCRIPTION:τεστττ
URL:https://polisevents.code36.gr/event/%cf%84%ce%b5%cf%83%cf%84-2-3/
CATEGORIES:Εκπαιδευτικό
ATTACH;FMTTYPE=image/jpeg:https://polisevents.code36.gr/wp-content/uploads/2026/03/the-acropolis-in-athens-attica-greece-2026-01-09-07-13-15-utc.jpg
END:VEVENT
END:VCALENDAR