BEGIN:VCALENDAR
VERSION:2.0
PRODID:-//PolisEvents - ECPv6.15.17.1//NONSGML v1.0//EN
CALSCALE:GREGORIAN
METHOD:PUBLISH
X-ORIGINAL-URL:https://polisevents.code36.gr
X-WR-CALDESC:Events for PolisEvents
REFRESH-INTERVAL;VALUE=DURATION:PT1H
X-Robots-Tag:noindex
X-PUBLISHED-TTL:PT1H
BEGIN:VTIMEZONE
TZID:Europe/Athens
BEGIN:DAYLIGHT
TZOFFSETFROM:+0200
TZOFFSETTO:+0300
TZNAME:EEST
DTSTART:20250330T010000
END:DAYLIGHT
BEGIN:STANDARD
TZOFFSETFROM:+0300
TZOFFSETTO:+0200
TZNAME:EET
DTSTART:20251026T010000
END:STANDARD
BEGIN:DAYLIGHT
TZOFFSETFROM:+0200
TZOFFSETTO:+0300
TZNAME:EEST
DTSTART:20260329T010000
END:DAYLIGHT
BEGIN:STANDARD
TZOFFSETFROM:+0300
TZOFFSETTO:+0200
TZNAME:EET
DTSTART:20261025T010000
END:STANDARD
BEGIN:DAYLIGHT
TZOFFSETFROM:+0200
TZOFFSETTO:+0300
TZNAME:EEST
DTSTART:20270328T010000
END:DAYLIGHT
BEGIN:STANDARD
TZOFFSETFROM:+0300
TZOFFSETTO:+0200
TZNAME:EET
DTSTART:20271031T010000
END:STANDARD
END:VTIMEZONE
BEGIN:VEVENT
DTSTART;TZID=Europe/Athens:20260302T210000
DTEND;TZID=Europe/Athens:20260428T000000
DTSTAMP:20260424T000609
CREATED:20260311T075157Z
LAST-MODIFIED:20260330T082930Z
UID:340-1772485200-1777334400@polisevents.code36.gr
SUMMARY:Ανοιχτά μαθήματα ιστορίας «Η Ιστορία της Ελλάδας του 20ού αιώνα» – Ζωγράφου – 2 Μαρτίου | PolisEvents
DESCRIPTION:Ο Δήμος Ζωγράφου διοργανώνει έναν νέο κύκλο ανοιχτών μαθημάτων ιστορίας με τίτλο «Η Ιστορία της Ελλάδας του 20ού αιώνα»\, από τις 2 Μαρτίου έως τις 27 Απριλίου 2026\, κάθε Δευτέρα στις 19:00\, στο Θέατρο ΣΤΟΑ. \nΟ κύκλος περιλαμβάνει οκτώ αυτοτελείς δημόσιες διαλέξεις ιστορικού περιεχομένου\, στο πλαίσιο του θεσμού «Χαρτογραφήματα»\, με επιστημονική επιμέλεια και συντονισμό του Μενέλαου Χαραλαμπίδη. Οι συναντήσεις θα έχουν τη μορφή ανοιχτής παρουσίασης και συζήτησης\, με τη συμμετοχή ιστορικών και ερευνητών\, προβολή και σχολιασμό αρχειακού υλικού και διάλογο με το κοινό. \nΗ πρωτοβουλία υλοποιείται σε συνεργασία με τα Αρχεία Σύγχρονης Κοινωνικής Ιστορίας (ΑΣΚΙ) και το σωματείο «Φίλοι των ΑΣΚΙ». Η είσοδος είναι ελεύθερη\, ενώ υπάρχει προαιρετική συνεισφορά τροφίμων και φαρμάκων για το Κοινωνικό Παντοπωλείο και το Φαρμακείο του Δήμου Ζωγράφου. \nΓια τη συμμετοχή απαιτείται εγγραφή μέσω της σχετικής φόρμας\, ενώ θα χορηγηθεί βεβαίωση παρακολούθησης σε όσους και όσες παρακολουθήσουν τουλάχιστον 6 από τα 8 μαθήματα.
URL:https://polisevents.code36.gr/event/%ce%b1%ce%bd%ce%bf%ce%b9%cf%87%cf%84%ce%ac-%ce%bc%ce%b1%ce%b8%ce%ae%ce%bc%ce%b1%cf%84%ce%b1-%ce%b9%cf%83%cf%84%ce%bf%cf%81%ce%af%ce%b1%cf%82-%ce%b7-%ce%b9%cf%83%cf%84%ce%bf%cf%81%ce%af%ce%b1/
LOCATION:Θέατρο ΣΤΟΑ\, Μπισκίνη 55\, Ζωγράφου\, Ζωγράφου\, Greece
CATEGORIES:Εκπαιδευτικό
ATTACH;FMTTYPE=image/jpeg:https://polisevents.code36.gr/wp-content/uploads/2026/02/istoria-zografou.jpg
END:VEVENT
BEGIN:VEVENT
DTSTART;TZID=Europe/Athens:20260401T000000
DTEND;TZID=Europe/Athens:20260405T000000
DTSTAMP:20260424T000609
CREATED:20260401T130157Z
LAST-MODIFIED:20260401T132041Z
UID:1176-1775001600-1775347200@polisevents.code36.gr
SUMMARY:Event 24
DESCRIPTION:τεστττ
URL:https://polisevents.code36.gr/event/%cf%84%ce%b5%cf%83%cf%84-2-4/
CATEGORIES:Αθλητισμός
ATTACH;FMTTYPE=image/jpeg:https://polisevents.code36.gr/wp-content/uploads/2026/02/birds-eye-view-of-large-city-with-crowded-high-ris-2026-01-09-13-07-25-utc-e1773235348681.jpg
END:VEVENT
BEGIN:VEVENT
DTSTART;TZID=Europe/Athens:20260401T000000
DTEND;TZID=Europe/Athens:20260405T000000
DTSTAMP:20260424T000609
CREATED:20260401T130157Z
LAST-MODIFIED:20260401T130639Z
UID:1177-1775001600-1775347200@polisevents.code36.gr
SUMMARY:Event 25
DESCRIPTION:τεστττ
URL:https://polisevents.code36.gr/event/%cf%84%ce%b5%cf%83%cf%84-2-1/
CATEGORIES:Κοινωνικό
ATTACH;FMTTYPE=image/jpeg:https://polisevents.code36.gr/wp-content/uploads/2026/02/birds-eye-view-of-large-city-with-crowded-high-ris-2026-01-09-13-07-25-utc-e1773235348681.jpg
END:VEVENT
BEGIN:VEVENT
DTSTART;TZID=Europe/Athens:20260401T000000
DTEND;TZID=Europe/Athens:20260409T000000
DTSTAMP:20260424T000609
CREATED:20260401T130157Z
LAST-MODIFIED:20260401T130714Z
UID:1178-1775001600-1775692800@polisevents.code36.gr
SUMMARY:Event 26
DESCRIPTION:τεστττ
URL:https://polisevents.code36.gr/event/%cf%84%ce%b5%cf%83%cf%84-2-2-2/
CATEGORIES:Αθλητισμός
ATTACH;FMTTYPE=image/jpeg:https://polisevents.code36.gr/wp-content/uploads/2026/02/birds-eye-view-of-large-city-with-crowded-high-ris-2026-01-09-13-07-25-utc-e1773235348681.jpg
END:VEVENT
BEGIN:VEVENT
DTSTART;TZID=Europe/Athens:20260401T030000
DTEND;TZID=Europe/Athens:20260412T030000
DTSTAMP:20260424T000609
CREATED:20260320T102604Z
LAST-MODIFIED:20260401T125550Z
UID:1020-1775012400-1775962800@polisevents.code36.gr
SUMMARY:Event 1
DESCRIPTION:τεστττ
URL:https://polisevents.code36.gr/event/%cf%84%ce%b5%cf%83%cf%84-7-3/
CATEGORIES:Αθλητισμός
ATTACH;FMTTYPE=image/jpeg:https://polisevents.code36.gr/wp-content/uploads/2026/03/blurred-city-festival-background-2026-01-11-08-14-38-utc.jpg
END:VEVENT
BEGIN:VEVENT
DTSTART;TZID=Europe/Athens:20260401T030000
DTEND;TZID=Europe/Athens:20260417T030000
DTSTAMP:20260424T000609
CREATED:20260313T095337Z
LAST-MODIFIED:20260401T125609Z
UID:918-1775012400-1776394800@polisevents.code36.gr
SUMMARY:Event 2
DESCRIPTION:test 2
URL:https://polisevents.code36.gr/event/test-2-3/
CATEGORIES:Εκπαιδευτικό
ATTACH;FMTTYPE=image/jpeg:https://polisevents.code36.gr/wp-content/uploads/2026/03/the-acropolis-in-athens-attica-greece-2026-01-09-07-13-15-utc.jpg
END:VEVENT
BEGIN:VEVENT
DTSTART;TZID=Europe/Athens:20260402T000000
DTEND;TZID=Europe/Athens:20260404T000000
DTSTAMP:20260424T000609
CREATED:20260401T130157Z
LAST-MODIFIED:20260401T130747Z
UID:1180-1775088000-1775260800@polisevents.code36.gr
SUMMARY:Event 28
DESCRIPTION:τεστττ
URL:https://polisevents.code36.gr/event/%cf%84%ce%b5%cf%83%cf%84-2-4-2/
CATEGORIES:Αθλητισμός
ATTACH;FMTTYPE=image/jpeg:https://polisevents.code36.gr/wp-content/uploads/2026/02/birds-eye-view-of-large-city-with-crowded-high-ris-2026-01-09-13-07-25-utc-e1773235348681.jpg
END:VEVENT
BEGIN:VEVENT
DTSTART;TZID=Europe/Athens:20260402T000000
DTEND;TZID=Europe/Athens:20260404T000000
DTSTAMP:20260424T000609
CREATED:20260401T130157Z
LAST-MODIFIED:20260401T130904Z
UID:1181-1775088000-1775260800@polisevents.code36.gr
SUMMARY:Event 29
DESCRIPTION:τεστττ
URL:https://polisevents.code36.gr/event/%cf%84%ce%b5%cf%83%cf%84-2-5/
CATEGORIES:Αθλητισμός
ATTACH;FMTTYPE=image/jpeg:https://polisevents.code36.gr/wp-content/uploads/2026/02/birds-eye-view-of-large-city-with-crowded-high-ris-2026-01-09-13-07-25-utc-e1773235348681.jpg
END:VEVENT
BEGIN:VEVENT
DTSTART;TZID=Europe/Athens:20260402T000000
DTEND;TZID=Europe/Athens:20260404T000000
DTSTAMP:20260424T000609
CREATED:20260401T130157Z
LAST-MODIFIED:20260401T130959Z
UID:1183-1775088000-1775260800@polisevents.code36.gr
SUMMARY:Event 31
DESCRIPTION:τεστττ
URL:https://polisevents.code36.gr/event/%cf%84%ce%b5%cf%83%cf%84-2-7/
CATEGORIES:Αθλητισμός
ATTACH;FMTTYPE=image/jpeg:https://polisevents.code36.gr/wp-content/uploads/2026/02/birds-eye-view-of-large-city-with-crowded-high-ris-2026-01-09-13-07-25-utc-e1773235348681.jpg
END:VEVENT
BEGIN:VEVENT
DTSTART;TZID=Europe/Athens:20260402T000000
DTEND;TZID=Europe/Athens:20260407T000000
DTSTAMP:20260424T000609
CREATED:20260401T130157Z
LAST-MODIFIED:20260401T130837Z
UID:1182-1775088000-1775520000@polisevents.code36.gr
SUMMARY:Event 30
DESCRIPTION:τεστττ
URL:https://polisevents.code36.gr/event/%cf%84%ce%b5%cf%83%cf%84-2-6/
CATEGORIES:Αθλητισμός
ATTACH;FMTTYPE=image/jpeg:https://polisevents.code36.gr/wp-content/uploads/2026/02/birds-eye-view-of-large-city-with-crowded-high-ris-2026-01-09-13-07-25-utc-e1773235348681.jpg
END:VEVENT
BEGIN:VEVENT
DTSTART;TZID=Europe/Athens:20260402T030000
DTEND;TZID=Europe/Athens:20260410T040000
DTSTAMP:20260424T000609
CREATED:20260313T132619Z
LAST-MODIFIED:20260406T112811Z
UID:880-1775098800-1775793600@polisevents.code36.gr
SUMMARY:Event 3
DESCRIPTION:τεστττ
URL:https://polisevents.code36.gr/event/%cf%84%ce%b5%cf%83%cf%84-3-2/
CATEGORIES:Πολιτισμός
ATTACH;FMTTYPE=image/jpeg:https://polisevents.code36.gr/wp-content/uploads/2026/03/rear-view-of-asian-audience-joining-and-listening-2026-01-05-06-13-50-utc.jpg
END:VEVENT
BEGIN:VEVENT
DTSTART;TZID=Europe/Athens:20260402T110000
DTEND;TZID=Europe/Athens:20260414T200000
DTSTAMP:20260424T000609
CREATED:20260313T095337Z
LAST-MODIFIED:20260401T125623Z
UID:775-1775127600-1776196800@polisevents.code36.gr
SUMMARY:Event 4
DESCRIPTION:test 2
URL:https://polisevents.code36.gr/event/test-2/
CATEGORIES:Εκπαιδευτικό
ATTACH;FMTTYPE=image/jpeg:https://polisevents.code36.gr/wp-content/uploads/2026/03/the-acropolis-in-athens-attica-greece-2026-01-09-07-13-15-utc.jpg
END:VEVENT
BEGIN:VEVENT
DTSTART;TZID=Europe/Athens:20260403T030000
DTEND;TZID=Europe/Athens:20260418T030000
DTSTAMP:20260424T000609
CREATED:20260313T132619Z
LAST-MODIFIED:20260401T125630Z
UID:881-1775185200-1776481200@polisevents.code36.gr
SUMMARY:Event 5
DESCRIPTION:τεστττ
URL:https://polisevents.code36.gr/event/%cf%84%ce%b5%cf%83%cf%84-4-2/
CATEGORIES:Κοινωνικό
ATTACH;FMTTYPE=image/jpeg:https://polisevents.code36.gr/wp-content/uploads/2026/03/aerial-shot-of-mount-lycabettus-athens-greece-2026-01-08-00-30-22-utc.jpeg
END:VEVENT
BEGIN:VEVENT
DTSTART;TZID=Europe/Athens:20260403T030000
DTEND;TZID=Europe/Athens:20260421T030000
DTSTAMP:20260424T000609
CREATED:20260313T132619Z
LAST-MODIFIED:20260401T125637Z
UID:878-1775185200-1776740400@polisevents.code36.gr
SUMMARY:Event 5
DESCRIPTION:τεστττ
URL:https://polisevents.code36.gr/event/%cf%84%ce%b5%cf%83%cf%84-1/
CATEGORIES:Εκπαιδευτικό
ATTACH;FMTTYPE=image/jpeg:https://polisevents.code36.gr/wp-content/uploads/2026/03/coeur-d-alene-idaho-june-12-budweiser-clydes-2026-01-11-10-20-22-utc.jpg
END:VEVENT
END:VCALENDAR