BEGIN:VCALENDAR
VERSION:2.0
PRODID:-//PolisEvents - ECPv6.15.17.1//NONSGML v1.0//EN
CALSCALE:GREGORIAN
METHOD:PUBLISH
X-WR-CALNAME:PolisEvents
X-ORIGINAL-URL:https://polisevents.code36.gr
X-WR-CALDESC:Events for PolisEvents
REFRESH-INTERVAL;VALUE=DURATION:PT1H
X-Robots-Tag:noindex
X-PUBLISHED-TTL:PT1H
BEGIN:VTIMEZONE
TZID:Europe/Athens
BEGIN:DAYLIGHT
TZOFFSETFROM:+0200
TZOFFSETTO:+0300
TZNAME:EEST
DTSTART:20250330T010000
END:DAYLIGHT
BEGIN:STANDARD
TZOFFSETFROM:+0300
TZOFFSETTO:+0200
TZNAME:EET
DTSTART:20251026T010000
END:STANDARD
BEGIN:DAYLIGHT
TZOFFSETFROM:+0200
TZOFFSETTO:+0300
TZNAME:EEST
DTSTART:20260329T010000
END:DAYLIGHT
BEGIN:STANDARD
TZOFFSETFROM:+0300
TZOFFSETTO:+0200
TZNAME:EET
DTSTART:20261025T010000
END:STANDARD
BEGIN:DAYLIGHT
TZOFFSETFROM:+0200
TZOFFSETTO:+0300
TZNAME:EEST
DTSTART:20270328T010000
END:DAYLIGHT
BEGIN:STANDARD
TZOFFSETFROM:+0300
TZOFFSETTO:+0200
TZNAME:EET
DTSTART:20271031T010000
END:STANDARD
END:VTIMEZONE
BEGIN:VEVENT
DTSTART;TZID=Europe/Athens:20260302T210000
DTEND;TZID=Europe/Athens:20260428T000000
DTSTAMP:20260424T021722
CREATED:20260311T075157Z
LAST-MODIFIED:20260330T082930Z
UID:340-1772485200-1777334400@polisevents.code36.gr
SUMMARY:Ανοιχτά μαθήματα ιστορίας «Η Ιστορία της Ελλάδας του 20ού αιώνα» – Ζωγράφου – 2 Μαρτίου | PolisEvents
DESCRIPTION:Ο Δήμος Ζωγράφου διοργανώνει έναν νέο κύκλο ανοιχτών μαθημάτων ιστορίας με τίτλο «Η Ιστορία της Ελλάδας του 20ού αιώνα»\, από τις 2 Μαρτίου έως τις 27 Απριλίου 2026\, κάθε Δευτέρα στις 19:00\, στο Θέατρο ΣΤΟΑ. \nΟ κύκλος περιλαμβάνει οκτώ αυτοτελείς δημόσιες διαλέξεις ιστορικού περιεχομένου\, στο πλαίσιο του θεσμού «Χαρτογραφήματα»\, με επιστημονική επιμέλεια και συντονισμό του Μενέλαου Χαραλαμπίδη. Οι συναντήσεις θα έχουν τη μορφή ανοιχτής παρουσίασης και συζήτησης\, με τη συμμετοχή ιστορικών και ερευνητών\, προβολή και σχολιασμό αρχειακού υλικού και διάλογο με το κοινό. \nΗ πρωτοβουλία υλοποιείται σε συνεργασία με τα Αρχεία Σύγχρονης Κοινωνικής Ιστορίας (ΑΣΚΙ) και το σωματείο «Φίλοι των ΑΣΚΙ». Η είσοδος είναι ελεύθερη\, ενώ υπάρχει προαιρετική συνεισφορά τροφίμων και φαρμάκων για το Κοινωνικό Παντοπωλείο και το Φαρμακείο του Δήμου Ζωγράφου. \nΓια τη συμμετοχή απαιτείται εγγραφή μέσω της σχετικής φόρμας\, ενώ θα χορηγηθεί βεβαίωση παρακολούθησης σε όσους και όσες παρακολουθήσουν τουλάχιστον 6 από τα 8 μαθήματα.
URL:https://polisevents.code36.gr/event/%ce%b1%ce%bd%ce%bf%ce%b9%cf%87%cf%84%ce%ac-%ce%bc%ce%b1%ce%b8%ce%ae%ce%bc%ce%b1%cf%84%ce%b1-%ce%b9%cf%83%cf%84%ce%bf%cf%81%ce%af%ce%b1%cf%82-%ce%b7-%ce%b9%cf%83%cf%84%ce%bf%cf%81%ce%af%ce%b1/
LOCATION:Θέατρο ΣΤΟΑ\, Μπισκίνη 55\, Ζωγράφου\, Ζωγράφου\, Greece
CATEGORIES:Εκπαιδευτικό
ATTACH;FMTTYPE=image/jpeg:https://polisevents.code36.gr/wp-content/uploads/2026/02/istoria-zografou.jpg
END:VEVENT
BEGIN:VEVENT
DTSTART;TZID=Europe/Athens:20260309T210000
DTEND;TZID=Europe/Athens:20260309T210000
DTSTAMP:20260424T021722
CREATED:20260311T071245Z
LAST-MODIFIED:20260312T084247Z
UID:320-1773090000-1773090000@polisevents.code36.gr
SUMMARY:Παρουσίαση βιβλίου «Μαρία Πλυτά: Η πρώτη σκηνοθέτρια του ελληνικού κινηματογράφου» – Αγία Παρασκευή – 9 Μαρτίου | PolisEvents
DESCRIPTION:Η Κινηματογραφική Λέσχη Αγίας Παρασκευής\, σε συνεργασία με τον Δήμο Αγίας Παρασκευής\, παρουσιάζει τον συλλογικό τόμο «Μαρία Πλυτά: Η πρώτη σκηνοθέτρια του ελληνικού κινηματογράφου – 17 ταινίες\, 17 αναγνώσεις»\, σε επιμέλεια της καθηγήτριας του Τμήματος Κινηματογράφου του ΑΠΘ Μπέττυ Κακλαμανίδου. \nΗ εκδήλωση θα πραγματοποιηθεί τη Δευτέρα 9 Μαρτίου 2026 στις 19:00 στη Δημοτική Βιβλιοθήκη Αγίας Παρασκευής / Μουσείο «Αλ. Κοντόπουλος». \nΘα μιλήσουν οι Θανάσης Αγάθος\, Δημήτρης Καλαντίδης και Μιρέλλα Λεγάκη\, ενώ τον συντονισμό θα έχει η Ορσαλία – Ελένη Κασσαβέτη. Μετά την παρουσίαση θα ακολουθήσει συζήτηση με το κοινό.
URL:https://polisevents.code36.gr/event/%cf%80%ce%b1%cf%81%ce%bf%cf%85%cf%83%ce%af%ce%b1%cf%83%ce%b7-%ce%b2%ce%b9%ce%b2%ce%bb%ce%af%ce%bf%cf%85-%ce%bc%ce%b1%cf%81%ce%af%ce%b1-%cf%80%ce%bb%cf%85%cf%84%ce%ac-%ce%b7-%cf%80%cf%81%cf%8e/
LOCATION:Δημοτική Βιβλιοθήκη Αγίας Παρασκευής / Μουσείο «Αλ. Κοντόπουλος»\, Δημοτική Βιβλιοθήκη Αγίας Παρασκευής / Μουσείο «Αλ. Κοντόπουλος»\, Αγία Παρασκευή\, Greece
CATEGORIES:Πολιτισμός
ATTACH;FMTTYPE=image/jpeg:https://polisevents.code36.gr/wp-content/uploads/2026/02/plyta_vivlio-662x900-1.jpg
END:VEVENT
END:VCALENDAR